BEGIN:VCALENDAR
VERSION:2.0
PRODID:-//Squarespace Inc/Squarespace 6//v6//EN
BEGIN:VEVENT
UID:58e7774a1e5b6c1c76f1661d@squarespace.com
DTSTAMP:20170722T163907Z
DTSTART:20170714T070000Z
DTEND:20170723T200000Z
SUMMARY:WORLD PARA ATHLETICS CHAMPIONSHIPS\, LONDON
END:VEVENT
END:VCALENDAR
