BEGIN:VCALENDAR
VERSION:2.0
PRODID:-//Squarespace Inc/Squarespace 6//v6//EN
BEGIN:VEVENT
UID:58e7752486e6c0ca597ac1c5@squarespace.com
DTSTAMP:20170407T113806Z
DTSTART:20170706T070000Z
DTEND:20170709T200000Z
SUMMARY:PARA SWIMMING WORLD SERIES\, BERLIN
END:VEVENT
END:VCALENDAR
